BEGIN:VCALENDAR
VERSION:2.0
PRODID:icalendar-ruby
CALSCALE:GREGORIAN
METHOD:PUBLISH
BEGIN:VEVENT
DTSTAMP:20260422T193910Z
UID:6-294292@fbcperkins.org
DTSTART:20261101T163000Z
DTEND:20261101T174500Z
CLASS:PUBLIC
CREATED:20260422T132506
DESCRIPTION:Come and join us for Worship &amp\; Service!
LAST-MODIFIED:20260422T132506
LOCATION:Main Chapel
SUMMARY:Sunday Morning Service
URL;VALUE=URI:https://fbcperkins.org/events/sunday-morning-service/2026-11-
 01
ATTACH;FILENAME=Livestream Title Card.png;FMTTYPE=image/png:https://dq5pwpg
 1q8ru0.cloudfront.net/2025/04/02/19/05/03/616c7223-7e95-48b9-beb2-30248a7a
 0a03/Livestream%20Title%20Card.png
END:VEVENT
END:VCALENDAR
